BEGIN:VCALENDAR
VERSION:2.0
PRODID:-//The Conveyancing Association - ECPv6.15.20//NONSGML v1.0//EN
CALSCALE:GREGORIAN
METHOD:PUBLISH
X-ORIGINAL-URL:https://www.conveyancingassociation.org.uk
X-WR-CALDESC:Events for The Conveyancing Association
REFRESH-INTERVAL;VALUE=DURATION:PT1H
X-Robots-Tag:noindex
X-PUBLISHED-TTL:PT1H
BEGIN:VTIMEZONE
TZID:Europe/London
BEGIN:DAYLIGHT
TZOFFSETFROM:+0000
TZOFFSETTO:+0100
TZNAME:BST
DTSTART:20220327T010000
END:DAYLIGHT
BEGIN:STANDARD
TZOFFSETFROM:+0100
TZOFFSETTO:+0000
TZNAME:GMT
DTSTART:20221030T010000
END:STANDARD
BEGIN:DAYLIGHT
TZOFFSETFROM:+0000
TZOFFSETTO:+0100
TZNAME:BST
DTSTART:20230326T010000
END:DAYLIGHT
BEGIN:STANDARD
TZOFFSETFROM:+0100
TZOFFSETTO:+0000
TZNAME:GMT
DTSTART:20231029T010000
END:STANDARD
BEGIN:DAYLIGHT
TZOFFSETFROM:+0000
TZOFFSETTO:+0100
TZNAME:BST
DTSTART:20240331T010000
END:DAYLIGHT
BEGIN:STANDARD
TZOFFSETFROM:+0100
TZOFFSETTO:+0000
TZNAME:GMT
DTSTART:20241027T010000
END:STANDARD
END:VTIMEZONE
BEGIN:VEVENT
DTSTART;TZID=Europe/London:20230116T110000
DTEND;TZID=Europe/London:20230116T123000
DTSTAMP:20260421T042912
CREATED:20230112T085609Z
LAST-MODIFIED:20230112T085609Z
UID:7467-1673866800-1673872200@www.conveyancingassociation.org.uk
SUMMARY:eCOS - AML via eCOS
DESCRIPTION:Performing accurate\, timely AML checks is a key part of an efficient client onboarding process and lays the foundations for compliance across the conveyancing journey.\nManaging AML through InfoTrack’s eCOS onboarding solution allows you to quickly and easily order an AML check to fulfil your KYC responsibilities with a single click of your mouse. \nJoin us on Monday\, 16th January\, as we demonstrate how the eCOS One-click AML: \n• Allows you to extract the client’s information directly from their identity document\n• Checks ID and PEP / Sanctions status against 12 official datasets\n• Complies with the latest EU 5th Directive requirements\n• Is HMRC Safe Harbour compliant\n• Provides ongoing monitoring and alerts for 12 months \nRegister now to learn more. \nhttps://us02web.zoom.us/webinar/register/6916728334292/WN_KQIfmd1dSXml_Hka78FDUg
URL:https://www.conveyancingassociation.org.uk/event/ecos-aml-via-ecos/
CATEGORIES:Affiliate Member Event,Event
ATTACH;FMTTYPE=image/png:https://www.conveyancingassociation.org.uk/wp-content/uploads/2021/09/infotrack.png
END:VEVENT
BEGIN:VEVENT
DTSTART;TZID=Europe/London:20230117T110000
DTEND;TZID=Europe/London:20230117T123000
DTSTAMP:20260421T042912
CREATED:20230112T085840Z
LAST-MODIFIED:20230112T085840Z
UID:7469-1673953200-1673958600@www.conveyancingassociation.org.uk
SUMMARY:Property Report - Evolving the content library
DESCRIPTION:Standardising your conveyancing processes and documents is a critical step in improving productivity\, and improving the speed in which client matters are handled. But in a world where teams are increasingly dispersed\, maintaining consistency can be a challenge. \nJoin us on Tuesday 17th January as we demonstrate how Property Report’s in-built content library assists firms in standardising their property reports\, reducing time spent searching for and editing documents\, by leveraging a compete content library \nRegister today! \nhttps://us02web.zoom.us/webinar/register/9016728334816/WN_k6o9DK1NRSGqXR1J4rD3Eg
URL:https://www.conveyancingassociation.org.uk/event/property-report-evolving-the-content-library/
CATEGORIES:Affiliate Member Event,Event,Online Webinar
ATTACH;FMTTYPE=image/png:https://www.conveyancingassociation.org.uk/wp-content/uploads/2021/09/infotrack.png
END:VEVENT
BEGIN:VEVENT
DTSTART;TZID=Europe/London:20230118T110000
DTEND;TZID=Europe/London:20230118T123000
DTSTAMP:20260421T042912
CREATED:20230112T090051Z
LAST-MODIFIED:20230112T090051Z
UID:7471-1674039600-1674045000@www.conveyancingassociation.org.uk
SUMMARY:Friction-Free Post-Completion
DESCRIPTION:Post-completion is probably the area of conveyancing which has seen the most modernisation in recent years\, thanks in part to government mandates for the digitisation of AP1s. But simply ‘going digital’ doesn’t in itself guarantee improvements for staff or clients: there are many more factors to consider to really enjoy friction-free post-completion. \nJoin us on Wednesday\, 18th January\, as we explore the factors firms need to consider when digitising their post-completion processes\, the potential roadblocks\, and how they can be overcome through: \n· Integration with CMSs and Government portals\n· Automatic population of data\n· Automatic attachments of matter-related documents\n· Firm-wide dashboards and reporting\n· Intuitive platform design \nRegister now to learn more! \nhttps://us02web.zoom.us/webinar/register/2316728335960/WN_5TVPIwfMTgqPDcvYxhK6tw
URL:https://www.conveyancingassociation.org.uk/event/friction-free-post-completion/
CATEGORIES:Affiliate Member Event,Event,Online Webinar
ATTACH;FMTTYPE=image/png:https://www.conveyancingassociation.org.uk/wp-content/uploads/2021/09/infotrack.png
END:VEVENT
BEGIN:VEVENT
DTSTART;TZID=Europe/London:20230119T110000
DTEND;TZID=Europe/London:20230119T123000
DTSTAMP:20260421T042912
CREATED:20230112T092650Z
LAST-MODIFIED:20230112T092650Z
UID:7473-1674126000-1674131400@www.conveyancingassociation.org.uk
SUMMARY:Commercial: Minimising Risk and Improving Efficiencies
DESCRIPTION:Maintaining regulatory compliance and minimising risk are two ongoing causes for concern for commercial conveyancers. Missteps at any point in a transaction have the potential to prove costly to both the firm and the client. \nJoin us on Thursday\, 19th January and explore how InfoTrack’s purpose-built commercial conveyancing solutions help firms address these issues and enable you to manage multiple\, large-scale transactions\, with confidence\, through: \n· Integration with Local Authorities\, authorities and document management systems\n· Establishing a ‘single source of truth’ across all conveyancing forms and processes\, with full audit trails\n· Intuitive dashboards and standardised documents and processes \nRegister today! \nhttps://us02web.zoom.us/webinar/register/8616728337292/WN_bqEUWTxyQrCfHfSt68O7DA
URL:https://www.conveyancingassociation.org.uk/event/commercial-minimising-risk-and-improving-efficiencies/
CATEGORIES:Affiliate Member Event,Event,Online Webinar
ATTACH;FMTTYPE=image/png:https://www.conveyancingassociation.org.uk/wp-content/uploads/2021/09/infotrack.png
END:VEVENT
BEGIN:VEVENT
DTSTART;TZID=Europe/London:20230120T110000
DTEND;TZID=Europe/London:20230120T123000
DTSTAMP:20260421T042912
CREATED:20230112T092852Z
LAST-MODIFIED:20230112T092953Z
UID:7475-1674212400-1674217800@www.conveyancingassociation.org.uk
SUMMARY:LMS and Land Registry Integration
DESCRIPTION:On a purchase it’s vital to ensure that the mortgage offer is received on time to prevent delay and that the lender’s requirements are met from instruction to post-completion\, including verification of the other side’s solicitor and registration of the lender’s charge. \nJoin us on Friday\, 20th January\, to find out how you can streamline this process through integration with LMS: \n· View mortgage offers and save the documents straight to your matter\n· Quickly verify other law firms and their bank details via Confirmly\n· Automate submission of Land Registry documents to LMS \nDon’t miss out on this webinar\, register today! \nhttps://us02web.zoom.us/webinar/register/1116728338269/WN_fLDd_YO8T6Sk2DMmLD5pAg
URL:https://www.conveyancingassociation.org.uk/event/lms-and-land-registry-integration/
CATEGORIES:Affiliate Member Event,Event,Online Webinar
ATTACH;FMTTYPE=image/png:https://www.conveyancingassociation.org.uk/wp-content/uploads/2021/09/infotrack.png
END:VEVENT
END:VCALENDAR