BEGIN:VCALENDAR
VERSION:2.0
PRODID:-//The Conveyancing Association - ECPv6.15.20//NONSGML v1.0//EN
CALSCALE:GREGORIAN
METHOD:PUBLISH
X-WR-CALNAME:The Conveyancing Association
X-ORIGINAL-URL:https://www.conveyancingassociation.org.uk
X-WR-CALDESC:Events for The Conveyancing Association
REFRESH-INTERVAL;VALUE=DURATION:PT1H
X-Robots-Tag:noindex
X-PUBLISHED-TTL:PT1H
BEGIN:VTIMEZONE
TZID:Europe/London
BEGIN:DAYLIGHT
TZOFFSETFROM:+0000
TZOFFSETTO:+0100
TZNAME:BST
DTSTART:20210328T010000
END:DAYLIGHT
BEGIN:STANDARD
TZOFFSETFROM:+0100
TZOFFSETTO:+0000
TZNAME:GMT
DTSTART:20211031T010000
END:STANDARD
BEGIN:DAYLIGHT
TZOFFSETFROM:+0000
TZOFFSETTO:+0100
TZNAME:BST
DTSTART:20220327T010000
END:DAYLIGHT
BEGIN:STANDARD
TZOFFSETFROM:+0100
TZOFFSETTO:+0000
TZNAME:GMT
DTSTART:20221030T010000
END:STANDARD
BEGIN:DAYLIGHT
TZOFFSETFROM:+0000
TZOFFSETTO:+0100
TZNAME:BST
DTSTART:20230326T010000
END:DAYLIGHT
BEGIN:STANDARD
TZOFFSETFROM:+0100
TZOFFSETTO:+0000
TZNAME:GMT
DTSTART:20231029T010000
END:STANDARD
END:VTIMEZONE
BEGIN:VEVENT
DTSTART;TZID=Europe/London:20220524T110000
DTEND;TZID=Europe/London:20220524T123000
DTSTAMP:20260424T001835
CREATED:20220427T055038Z
LAST-MODIFIED:20220427T055038Z
UID:6609-1653390000-1653395400@www.conveyancingassociation.org.uk
SUMMARY:Energy infrastructure in the UK. What What are the impacts on our climate and residential property transactions?
DESCRIPTION:Groundsure’s Climate Change series continues with a new webinar focusing on energy infrastructure in the UK. Energy choices across the globe as well as in the UK have a direct impact on climate change which changes the environment we live in\, including our homes. Strategic Account Manager Danielle Orosa will take you through the various types of energy used in the UK\, from coal\, oil & gas\, to wind & solar. She will look at how they may affect properties near by. Danielle will also look what the future of energy looks like and how Groundsure reports can help identify energy infrastructures. \nhttps://www.groundsure.com/events/energy-infrastructure-in-the-uk-what-are-the-impacts-on-our-climate-and-residential-property-transactions/ \n 
URL:https://www.conveyancingassociation.org.uk/event/energy-infrastructure-in-the-uk-what-what-are-the-impacts-on-our-climate-and-residential-property-transactions/
CATEGORIES:Affiliate Member Event
END:VEVENT
END:VCALENDAR