BEGIN:VCALENDAR
VERSION:2.0
PRODID:-//The Conveyancing Association - ECPv6.15.20//NONSGML v1.0//EN
CALSCALE:GREGORIAN
METHOD:PUBLISH
X-ORIGINAL-URL:https://www.conveyancingassociation.org.uk
X-WR-CALDESC:Events for The Conveyancing Association
REFRESH-INTERVAL;VALUE=DURATION:PT1H
X-Robots-Tag:noindex
X-PUBLISHED-TTL:PT1H
BEGIN:VTIMEZONE
TZID:Europe/London
BEGIN:DAYLIGHT
TZOFFSETFROM:+0000
TZOFFSETTO:+0100
TZNAME:BST
DTSTART:20210328T010000
END:DAYLIGHT
BEGIN:STANDARD
TZOFFSETFROM:+0100
TZOFFSETTO:+0000
TZNAME:GMT
DTSTART:20211031T010000
END:STANDARD
BEGIN:DAYLIGHT
TZOFFSETFROM:+0000
TZOFFSETTO:+0100
TZNAME:BST
DTSTART:20220327T010000
END:DAYLIGHT
BEGIN:STANDARD
TZOFFSETFROM:+0100
TZOFFSETTO:+0000
TZNAME:GMT
DTSTART:20221030T010000
END:STANDARD
BEGIN:DAYLIGHT
TZOFFSETFROM:+0000
TZOFFSETTO:+0100
TZNAME:BST
DTSTART:20230326T010000
END:DAYLIGHT
BEGIN:STANDARD
TZOFFSETFROM:+0100
TZOFFSETTO:+0000
TZNAME:GMT
DTSTART:20231029T010000
END:STANDARD
END:VTIMEZONE
BEGIN:VEVENT
DTSTART;TZID=Europe/London:20220608T110000
DTEND;TZID=Europe/London:20220608T123000
DTSTAMP:20260423T222229
CREATED:20220607T060720Z
LAST-MODIFIED:20220607T060720Z
UID:6669-1654686000-1654691400@www.conveyancingassociation.org.uk
SUMMARY:DevAssist Webinar | How to avoid being sued for £2 million
DESCRIPTION:Join Paul Addison\, Managing Director at DevAssist\, for our webinar discussing ‘How to avoid being sued for £2 million.’ \nDevAssist has created an informative CPD course which is accredited by the SRA. The objective of the session is to cover planning and development risks that your clients are exposed to\, and elaborate on what guidance you should be offering. It includes recent case studies that demonstrate what is so often missed. \nThe session will cover: \n· National Planning Policy\n· Five year housing supply and its importance.\n· Strategic Housing Land Availability Assessments (SHLAA)\n· Bird and Bird case law\n· Case studies \nSign up today!
URL:https://www.conveyancingassociation.org.uk/event/devassist-webinar-how-to-avoid-being-sued-for-2-million/
CATEGORIES:Affiliate Member Event,Webinar
ATTACH;FMTTYPE=image/jpeg:https://www.conveyancingassociation.org.uk/wp-content/uploads/2022/06/DevAssist-logo-website.jpg
END:VEVENT
END:VCALENDAR