BEGIN:VCALENDAR
VERSION:2.0
PRODID:-//The Conveyancing Association - ECPv6.15.20//NONSGML v1.0//EN
CALSCALE:GREGORIAN
METHOD:PUBLISH
X-WR-CALNAME:The Conveyancing Association
X-ORIGINAL-URL:https://www.conveyancingassociation.org.uk
X-WR-CALDESC:Events for The Conveyancing Association
REFRESH-INTERVAL;VALUE=DURATION:PT1H
X-Robots-Tag:noindex
X-PUBLISHED-TTL:PT1H
BEGIN:VTIMEZONE
TZID:Europe/London
BEGIN:DAYLIGHT
TZOFFSETFROM:+0000
TZOFFSETTO:+0100
TZNAME:BST
DTSTART:20210328T010000
END:DAYLIGHT
BEGIN:STANDARD
TZOFFSETFROM:+0100
TZOFFSETTO:+0000
TZNAME:GMT
DTSTART:20211031T010000
END:STANDARD
BEGIN:DAYLIGHT
TZOFFSETFROM:+0000
TZOFFSETTO:+0100
TZNAME:BST
DTSTART:20220327T010000
END:DAYLIGHT
BEGIN:STANDARD
TZOFFSETFROM:+0100
TZOFFSETTO:+0000
TZNAME:GMT
DTSTART:20221030T010000
END:STANDARD
BEGIN:DAYLIGHT
TZOFFSETFROM:+0000
TZOFFSETTO:+0100
TZNAME:BST
DTSTART:20230326T010000
END:DAYLIGHT
BEGIN:STANDARD
TZOFFSETFROM:+0100
TZOFFSETTO:+0000
TZNAME:GMT
DTSTART:20231029T010000
END:STANDARD
END:VTIMEZONE
BEGIN:VEVENT
DTSTART;TZID=Europe/London:20220614T110000
DTEND;TZID=Europe/London:20220614T123000
DTSTAMP:20260423T221917
CREATED:20220607T060953Z
LAST-MODIFIED:20220607T060953Z
UID:6672-1655204400-1655209800@www.conveyancingassociation.org.uk
SUMMARY:Groundsure Webinar | Understanding flood risk\, now and in the future
DESCRIPTION:By the end of the session\, you will understand the different types of flooding and their impacts\, look at how flood management redraws the risk\, as well as the role that Flood Re has played in supporting insurance provision for the most vulnerable. You will also appreciate how climate change will drive future impacts\, the challenge of housebuilding targets and new builds on flood plains. We will help you understand how to interpret flood data in accordance with guidance notes for your clients and how to offer next steps advice. \nAfter registering\, you will receive a confirmation email containing information about joining the webinar. \nClick her to register
URL:https://www.conveyancingassociation.org.uk/event/groundsure-webinar-understanding-flood-risk-now-and-in-the-future/
CATEGORIES:Affiliate Member Event,Webinar
ATTACH;FMTTYPE=image/jpeg:https://www.conveyancingassociation.org.uk/wp-content/uploads/2022/06/Groundsure.jpg
END:VEVENT
END:VCALENDAR