BEGIN:VCALENDAR
VERSION:2.0
PRODID:-//The Conveyancing Association - ECPv6.15.20//NONSGML v1.0//EN
CALSCALE:GREGORIAN
METHOD:PUBLISH
X-WR-CALNAME:The Conveyancing Association
X-ORIGINAL-URL:https://www.conveyancingassociation.org.uk
X-WR-CALDESC:Events for The Conveyancing Association
REFRESH-INTERVAL;VALUE=DURATION:PT1H
X-Robots-Tag:noindex
X-PUBLISHED-TTL:PT1H
BEGIN:VTIMEZONE
TZID:Europe/London
BEGIN:DAYLIGHT
TZOFFSETFROM:+0000
TZOFFSETTO:+0100
TZNAME:BST
DTSTART:20210328T010000
END:DAYLIGHT
BEGIN:STANDARD
TZOFFSETFROM:+0100
TZOFFSETTO:+0000
TZNAME:GMT
DTSTART:20211031T010000
END:STANDARD
BEGIN:DAYLIGHT
TZOFFSETFROM:+0000
TZOFFSETTO:+0100
TZNAME:BST
DTSTART:20220327T010000
END:DAYLIGHT
BEGIN:STANDARD
TZOFFSETFROM:+0100
TZOFFSETTO:+0000
TZNAME:GMT
DTSTART:20221030T010000
END:STANDARD
BEGIN:DAYLIGHT
TZOFFSETFROM:+0000
TZOFFSETTO:+0100
TZNAME:BST
DTSTART:20230326T010000
END:DAYLIGHT
BEGIN:STANDARD
TZOFFSETFROM:+0100
TZOFFSETTO:+0000
TZNAME:GMT
DTSTART:20231029T010000
END:STANDARD
END:VTIMEZONE
BEGIN:VEVENT
DTSTART;TZID=Europe/London:20220621T110000
DTEND;TZID=Europe/London:20220621T123000
DTSTAMP:20260423T220552
CREATED:20220607T061304Z
LAST-MODIFIED:20220607T061331Z
UID:6678-1655809200-1655814600@www.conveyancingassociation.org.uk
SUMMARY:CLS Property Insight Webinar | An introduction to Forfeiture of Lease (Housing Act) Indemnity Insurance and Rent Charges Indemnity Insurance
DESCRIPTION:CLS are pleased to provide an informative CPD webinar providing an overview of forfeiture of lease and rent charges with a discussion around the issues and insurance solutions. \nThe session will explore: \n• What is Forfeiture of Lease?\n• Section 146 Forfeiture Notice\n• Breaches of Covenant\n• Housing Act & Leasehold Reform Act\n• Forfeiture of Lease (Housing Act) Indemnity Insurance\n• Rent Charges Indemnity Insurance\n• How To Order \nClick here to register
URL:https://www.conveyancingassociation.org.uk/event/cls-property-insight-webinar-an-introduction-to-forfeiture-of-lease-housing-act-indemnity-insurance-and-rent-charges-indemnity-insurance/
CATEGORIES:Affiliate Member Event,Webinar
ATTACH;FMTTYPE=image/png:https://www.conveyancingassociation.org.uk/wp-content/uploads/2022/06/CLS-Property-Insight-logo_2_Vertical-01-300x230-1.png
END:VEVENT
END:VCALENDAR