BEGIN:VCALENDAR
VERSION:2.0
PRODID:-//The Conveyancing Association - ECPv6.15.20//NONSGML v1.0//EN
CALSCALE:GREGORIAN
METHOD:PUBLISH
X-WR-CALNAME:The Conveyancing Association
X-ORIGINAL-URL:https://www.conveyancingassociation.org.uk
X-WR-CALDESC:Events for The Conveyancing Association
REFRESH-INTERVAL;VALUE=DURATION:PT1H
X-Robots-Tag:noindex
X-PUBLISHED-TTL:PT1H
BEGIN:VTIMEZONE
TZID:Europe/London
BEGIN:DAYLIGHT
TZOFFSETFROM:+0000
TZOFFSETTO:+0100
TZNAME:BST
DTSTART:20210328T010000
END:DAYLIGHT
BEGIN:STANDARD
TZOFFSETFROM:+0100
TZOFFSETTO:+0000
TZNAME:GMT
DTSTART:20211031T010000
END:STANDARD
BEGIN:DAYLIGHT
TZOFFSETFROM:+0000
TZOFFSETTO:+0100
TZNAME:BST
DTSTART:20220327T010000
END:DAYLIGHT
BEGIN:STANDARD
TZOFFSETFROM:+0100
TZOFFSETTO:+0000
TZNAME:GMT
DTSTART:20221030T010000
END:STANDARD
BEGIN:DAYLIGHT
TZOFFSETFROM:+0000
TZOFFSETTO:+0100
TZNAME:BST
DTSTART:20230326T010000
END:DAYLIGHT
BEGIN:STANDARD
TZOFFSETFROM:+0100
TZOFFSETTO:+0000
TZNAME:GMT
DTSTART:20231029T010000
END:STANDARD
END:VTIMEZONE
BEGIN:VEVENT
DTSTART;TZID=Europe/London:20220719T110000
DTEND;TZID=Europe/London:20220719T123000
DTSTAMP:20260423T200644
CREATED:20220607T061645Z
LAST-MODIFIED:20220607T061645Z
UID:6684-1658228400-1658233800@www.conveyancingassociation.org.uk
SUMMARY:Dye & Durham | New build plot compliance and efficiencies
DESCRIPTION:Join Neil Wood\, Senior Key Relationship Manager\, Dye & Durham Insight & Data as he explores: \n– The standard way new builds are treated with environmental search data\n– The appropriate way to review new build plots\n– Plot sales for new build development\, self-build and homeowner purchase all need greater individual scrutiny\n– Case study – Bradford development next to Landfill branded “worthless”\n– How FCI treat plot sales searches\n– Benefits to clients: developers and homebuyers \nClick here to register \n 
URL:https://www.conveyancingassociation.org.uk/event/dye-durham-new-build-plot-compliance-and-efficiencies/
CATEGORIES:Affiliate Member Event,Webinar
ATTACH;FMTTYPE=image/jpeg:https://www.conveyancingassociation.org.uk/wp-content/uploads/2022/06/Dye-and-Durham.jpg
END:VEVENT
END:VCALENDAR