BEGIN:VCALENDAR
VERSION:2.0
PRODID:-//The Conveyancing Association - ECPv6.15.20//NONSGML v1.0//EN
CALSCALE:GREGORIAN
METHOD:PUBLISH
X-WR-CALNAME:The Conveyancing Association
X-ORIGINAL-URL:https://www.conveyancingassociation.org.uk
X-WR-CALDESC:Events for The Conveyancing Association
REFRESH-INTERVAL;VALUE=DURATION:PT1H
X-Robots-Tag:noindex
X-PUBLISHED-TTL:PT1H
BEGIN:VTIMEZONE
TZID:Europe/London
BEGIN:DAYLIGHT
TZOFFSETFROM:+0000
TZOFFSETTO:+0100
TZNAME:BST
DTSTART:20210328T010000
END:DAYLIGHT
BEGIN:STANDARD
TZOFFSETFROM:+0100
TZOFFSETTO:+0000
TZNAME:GMT
DTSTART:20211031T010000
END:STANDARD
BEGIN:DAYLIGHT
TZOFFSETFROM:+0000
TZOFFSETTO:+0100
TZNAME:BST
DTSTART:20220327T010000
END:DAYLIGHT
BEGIN:STANDARD
TZOFFSETFROM:+0100
TZOFFSETTO:+0000
TZNAME:GMT
DTSTART:20221030T010000
END:STANDARD
BEGIN:DAYLIGHT
TZOFFSETFROM:+0000
TZOFFSETTO:+0100
TZNAME:BST
DTSTART:20230326T010000
END:DAYLIGHT
BEGIN:STANDARD
TZOFFSETFROM:+0100
TZOFFSETTO:+0000
TZNAME:GMT
DTSTART:20231029T010000
END:STANDARD
END:VTIMEZONE
BEGIN:VEVENT
DTSTART;TZID=Europe/London:20220505T120000
DTEND;TZID=Europe/London:20220505T190000
DTSTAMP:20260425T123937
CREATED:20220309T141612Z
LAST-MODIFIED:20220404T070628Z
UID:5951-1651752000-1651777200@www.conveyancingassociation.org.uk
SUMMARY:Member Event
DESCRIPTION:We will be holding a Legal Members Meeting on the 5th May 2022 \nat Howden Group Holdings\,  One Creechurch Place\, London EC2A 5AF at 12:00pm Lunch will be served upon arrival \nThe All Member meeting will be held from 15:00 pm \nNetworking from 17:15 pm \nBook your place\n\n\n\n\nLegal Members Meeting on the 5th May 2022 \n\n\n\n\n\n\n\n\n    Meeting attending\n        *\n    \n    		\n		 Legal MemberAll Member	\n	\n    \n    \n\n\n    CA Member\n        \n    \n    		\n		12	\n	\n    \n    \n\n\n    Number of guests \n        \n    \n    \n    \n    \n\n\nYour details\n\n\n\n    First name\n        *\n    \n    \n    \n    \n\n\n    Surname\n        *\n    \n    \n    \n    \n\n\n    Company name \n        \n    \n    \n    \n    \n\n\n    Job Title \n        *\n    \n    \n    \n    \n\n\n    e-mail \n        *\n    \n    \n    \n    \n\n\n    Phone\n        *\n    \n    \n    \n    \n\n\n    Dietary requirements\n        \n    \n    \n    \n    \n\n\n\nGuest 1 details\n\n\n\n    Guest name \n        *\n    \n    \n    \n    \n\n\n    Company \n        *\n    \n    \n    \n    \n\n\n    Email \n        *\n    \n    \n    \n    \n\n\n    Dietary requirements\n        \n    \n    \n    \n    \n\n\n\nGuest 2 details\n\n\n\n    Guest name \n        *\n    \n    \n    \n    \n\n\n    Company \n        *\n    \n    \n    \n    \n\n\n    Email \n        *\n    \n    \n    \n    \n\n\n    Dietary requirements\n        \n    \n    \n    \n    \n\n\n	\n			\n			\n				If you are human\, leave this field blank.			\n			\n		\n		\n\nSubmit
URL:https://www.conveyancingassociation.org.uk/event/legal-members-meeting/
LOCATION:Howden Group Holdings\, Howden Group Offices \,1 Creechurch Place\, London\, EC2A 5AF\, United Kingdom
CATEGORIES:Meetings
ATTACH;FMTTYPE=image/jpeg:https://www.conveyancingassociation.org.uk/wp-content/uploads/2022/02/image-1-1-scaled-1.jpg
END:VEVENT
END:VCALENDAR