BEGIN:VCALENDAR
VERSION:2.0
PRODID:-//The Conveyancing Association - ECPv6.15.20//NONSGML v1.0//EN
CALSCALE:GREGORIAN
METHOD:PUBLISH
X-ORIGINAL-URL:https://www.conveyancingassociation.org.uk
X-WR-CALDESC:Events for The Conveyancing Association
REFRESH-INTERVAL;VALUE=DURATION:PT1H
X-Robots-Tag:noindex
X-PUBLISHED-TTL:PT1H
BEGIN:VTIMEZONE
TZID:Europe/London
BEGIN:DAYLIGHT
TZOFFSETFROM:+0000
TZOFFSETTO:+0100
TZNAME:BST
DTSTART:20210328T010000
END:DAYLIGHT
BEGIN:STANDARD
TZOFFSETFROM:+0100
TZOFFSETTO:+0000
TZNAME:GMT
DTSTART:20211031T010000
END:STANDARD
BEGIN:DAYLIGHT
TZOFFSETFROM:+0000
TZOFFSETTO:+0100
TZNAME:BST
DTSTART:20220327T010000
END:DAYLIGHT
BEGIN:STANDARD
TZOFFSETFROM:+0100
TZOFFSETTO:+0000
TZNAME:GMT
DTSTART:20221030T010000
END:STANDARD
BEGIN:DAYLIGHT
TZOFFSETFROM:+0000
TZOFFSETTO:+0100
TZNAME:BST
DTSTART:20230326T010000
END:DAYLIGHT
BEGIN:STANDARD
TZOFFSETFROM:+0100
TZOFFSETTO:+0000
TZNAME:GMT
DTSTART:20231029T010000
END:STANDARD
BEGIN:DAYLIGHT
TZOFFSETFROM:+0000
TZOFFSETTO:+0100
TZNAME:BST
DTSTART:20240331T010000
END:DAYLIGHT
BEGIN:STANDARD
TZOFFSETFROM:+0100
TZOFFSETTO:+0000
TZNAME:GMT
DTSTART:20241027T010000
END:STANDARD
BEGIN:DAYLIGHT
TZOFFSETFROM:+0000
TZOFFSETTO:+0100
TZNAME:BST
DTSTART:20250330T010000
END:DAYLIGHT
BEGIN:STANDARD
TZOFFSETFROM:+0100
TZOFFSETTO:+0000
TZNAME:GMT
DTSTART:20251026T010000
END:STANDARD
BEGIN:DAYLIGHT
TZOFFSETFROM:+0000
TZOFFSETTO:+0100
TZNAME:BST
DTSTART:20260329T010000
END:DAYLIGHT
BEGIN:STANDARD
TZOFFSETFROM:+0100
TZOFFSETTO:+0000
TZNAME:GMT
DTSTART:20261025T010000
END:STANDARD
BEGIN:DAYLIGHT
TZOFFSETFROM:+0000
TZOFFSETTO:+0100
TZNAME:BST
DTSTART:20270328T010000
END:DAYLIGHT
BEGIN:STANDARD
TZOFFSETFROM:+0100
TZOFFSETTO:+0000
TZNAME:GMT
DTSTART:20271031T010000
END:STANDARD
END:VTIMEZONE
BEGIN:VEVENT
DTSTART;TZID=Europe/London:20221207T100000
DTEND;TZID=Europe/London:20221207T110000
DTSTAMP:20260425T124645
CREATED:20221201T120016Z
LAST-MODIFIED:20221201T120121Z
UID:7321-1670407200-1670410800@www.conveyancingassociation.org.uk
SUMMARY:Dye & Durham Webinar
DESCRIPTION:Join leading Environmental Barrister Stephen Tromans KC of 39 Essex Chambers\, Solicitor and Legal Trainer Ian Quayle of IQ Legal Training\, and Environmental Consultant and Commercial Director\, Tim Champney of Dye & Durham next Wednesday 7th December at 10am as we explore climate change risks. This is set to be a very interesting session. Read more and register here: https://register.gotowebinar.com/register/6168908270978920718
URL:https://www.conveyancingassociation.org.uk/event/dye-durham-webinar/
CATEGORIES:Webinar
ATTACH;FMTTYPE=image/png:https://www.conveyancingassociation.org.uk/wp-content/uploads/2022/11/Dye-Durnham-News.png
END:VEVENT
BEGIN:VEVENT
DTSTART;TZID=Europe/London:20230504T120000
DTEND;TZID=Europe/London:20230504T130000
DTSTAMP:20260425T124645
CREATED:20230426T154455Z
LAST-MODIFIED:20230426T154455Z
UID:7829-1683201600-1683205200@www.conveyancingassociation.org.uk
SUMMARY:Top 3 tips: How to win in a volatile market
DESCRIPTION:Join our industry experts as they provide their top practical tips on how to set yourself apart and win new business in this changeable market. Looking at everything from Marketing initiatives and data-led insight to network leveraging and fee structures
URL:https://www.conveyancingassociation.org.uk/event/top-3-tips-how-to-win-in-a-volatile-market/
CATEGORIES:Online Webinar,Webinar
ATTACH;FMTTYPE=image/jpeg:https://www.conveyancingassociation.org.uk/wp-content/uploads/2023/04/TMTV-2023-FINAL1.jpg
END:VEVENT
BEGIN:VEVENT
DTSTART;TZID=Europe/London:20230606T120000
DTEND;TZID=Europe/London:20230606T170000
DTSTAMP:20260425T124645
CREATED:20230519T173621Z
LAST-MODIFIED:20230519T173621Z
UID:7880-1686052800-1686070800@www.conveyancingassociation.org.uk
SUMMARY:Top 3 tips: How to stop the blame game
DESCRIPTION:Listen to our property experts from across the industry share practical tangible tips on how we can stop talking about collaborating and actually do it. Everything from National conveyancing week and upfront information to building trust\, understanding one another’s processes\, and mandatory training. \nThe discussion will take place at 12 noon on Tuesday 6th June giving advice on ‘How to stop the blame game’. \nBrought to the market by tmgroup\, Conveyancing Data Services (CDS) and mio\, \nHost Matt Joy\, Sales & Marketing Director of tmgroup will be joined by: \n\nAlan Millstein\, Residential Property Surveyors Association\nJo Hodges\, Redbrick Solutions UK Ltd\nRob Hailstone\, Bold Legal Group\nNick Battrick\, DWF Law LLP\nAlistair Trippett\, Heywoods Estate Agents\n\n  \nJoe Pepper\, CEO of tmgroup comments: “Since being established in the midst of lockdown 2020\, tm:tv has gone from strength to strength as an online debate series covering key topics impacting the property market – everything from market trends to the future hazards of climate change. It’s fantastic to see tm:tv continuing to bring so many property professionals together from across the industry to help drive positive change.” If you have any questions\, please get in touch with Martin Beard\, Senior Marketing Executive at tmgroup on martin.beard@tmgroup.co.uk. \n  \nRegister here.
URL:https://www.conveyancingassociation.org.uk/event/top-3-tips-how-to-stop-the-blame-game/
CATEGORIES:Webinar
ATTACH;FMTTYPE=image/jpeg:https://www.conveyancingassociation.org.uk/wp-content/uploads/2023/05/TMTV-2023-FINAL2.jpg
END:VEVENT
BEGIN:VEVENT
DTSTART;TZID=Europe/London:20230711T120000
DTEND;TZID=Europe/London:20230711T133000
DTSTAMP:20260425T124645
CREATED:20230704T144633Z
LAST-MODIFIED:20230704T144633Z
UID:8118-1689076800-1689082200@www.conveyancingassociation.org.uk
SUMMARY:tmtv: Top 3 tips: How to drive material
DESCRIPTION:Hear our panel of experts’ views on how we can best educate consumers\, our peers and the Government in order to drive trust\, understanding\, confidence\, and investment in the property industry for the benefit of all. Everything from training\, CPD and consumer campaigns to speaking with one voice and which legislative reform should be prioritised to help shift the needle towards a ‘new world’ of transacting on properties. \nThe discussion will take place at 12 noon on Tuesday 11th July giving advice on ‘How to drive material change’. \nBrought to the market by tmgroup\, Conveyancing Data Services (CDS) and mio\, host Matt Joy\, Sales & Marketing Director of tmgroup will be joined by: \n\nBeth Rudolf\, Home Buyers & Sellers Group\nDavid Opie\, Today’s Conveyancer\nEmma Cooke\, Trading Standards\nMarion Ellis\, Love Surveying Ltd\n\nMore panelists to be announced. \nJoe Pepper\, CEO of tmgroup comments: “Since being established in the midst of lockdown 2020\, tm:tv has gone from strength to strength as an online debate series covering key topics impacting the property market – everything from market trends to the future hazards of climate change. It’s fantastic to see tm:tv continuing to bring so many property professionals together from across the industry to help drive positive change.” \nIf you have any questions\, please get in touch with Martin Beard\, Senior Marketing Executive at tmgroup on martin.beard@tmgroup.co.uk.
URL:https://www.conveyancingassociation.org.uk/event/tmtv-top-3-tips-how-to-drive-material/
CATEGORIES:Webinar
ATTACH;FMTTYPE=image/jpeg:https://www.conveyancingassociation.org.uk/wp-content/uploads/2023/07/TMTV-2023-FINAL3.jpg
END:VEVENT
BEGIN:VEVENT
DTSTART;TZID=Europe/London:20240911T100000
DTEND;TZID=Europe/London:20240911T110000
DTSTAMP:20260425T124645
CREATED:20240529T100318Z
LAST-MODIFIED:20240611T151157Z
UID:9292-1726048800-1726052400@www.conveyancingassociation.org.uk
SUMMARY:Client and Matter Risk Assessments: What you need to do to ensure compliance.
DESCRIPTION:The SRA issued its Warning Notice to Firms in October 2023\, stating: \n“We continue to see a persistent level of non-compliant client/matter risk assessments\, and this remains an area where improvement is necessary. Undertaking effective client/matter risk assessments is a key step in preventing money laundering as it should inform the correct level of client due diligence to apply\, as well as ongoing monitoring.” \nIt is evident\, that even with a template assessment form\, this remains an area in which law firm staff continue to struggle. \nIn this session\, Norman Denton\, Senior Compliance & Regulatory Specialist at Legal Eye\, will consider: \n• how client and matter risk assessment should be approached\n• how you demonstrate ongoing assessments\n• source of funds and wealth\n• good and poor practices in evidence. \n  \nRegister to attend \n\n\n\n\nClient and Matter Risk Assessments: What you need to do to ensure compliance.\n\n\n\n\n\n\n\n\n	First name\n		*\n	\n	\n	\n	\n\n\n	Last name\n		*\n	\n	\n	\n	\n\n\n	Company\n		*\n	\n	\n	\n	\n\n\n	Position\n		\n	\n	\n	\n	\n\n\n	Email\n		*\n	\n	\n	\n	\n\n\n	Phone\n		\n	\n	\n	\n	\n\n\n	\nSubmit\n\n\n\n\n\n	\n			\n			\n				If you are human\, leave this field blank.
URL:https://www.conveyancingassociation.org.uk/event/client-and-matter-risk-assessments-what-you-need-to-do-to-ensure-compliance/
CATEGORIES:Affiliate Member Event,Event,Webinar
ATTACH;FMTTYPE=image/jpeg:https://www.conveyancingassociation.org.uk/wp-content/uploads/2024/05/Legal-Eye.jpg
END:VEVENT
BEGIN:VEVENT
DTSTART;TZID=Europe/London:20241119T110000
DTEND;TZID=Europe/London:20241119T114500
DTSTAMP:20260425T124645
CREATED:20241017T135705Z
LAST-MODIFIED:20241017T135705Z
UID:9571-1732014000-1732016700@www.conveyancingassociation.org.uk
SUMMARY:Martello Webinar | The Law Society’s consultation on climate change and what it could mean for conveyancers
DESCRIPTION:
URL:https://www.conveyancingassociation.org.uk/event/martello-webinar-the-law-societys-consultation-on-climate-change-and-what-it-could-mean-for-conveyancers/
CATEGORIES:Affiliate Member Event,Webinar
ATTACH;FMTTYPE=image/jpeg:https://www.conveyancingassociation.org.uk/wp-content/uploads/2024/10/Martello-webinar-November-2024-scaled.jpg
END:VEVENT
BEGIN:VEVENT
DTSTART;VALUE=DATE:20250206
DTEND;VALUE=DATE:20250307
DTSTAMP:20260425T124645
CREATED:20250206T101544Z
LAST-MODIFIED:20250206T101544Z
UID:9817-1738800000-1741305599@www.conveyancingassociation.org.uk
SUMMARY:Property Trends Webinar: Exploring Key Data and Themes for 2025
DESCRIPTION:Property Trends Webinar: Exploring Key Data and Themes for 2025\nFind out what’s shaping the residential property market in 2025 through Landmark’s Property Trends Webinar\, now on-demand. You can expect comprehensive insights from our panel of industry experts covering transaction milestone timelines\, market volume analytics\, and statistics on the most pressing priorities for estate agents\, conveyancers\, surveyors\, and lenders. \nDiscover the headline transaction data and talking points for 2025.\nProperty trends webinar (on-demand) – What to expect: \nLeveraging the most comprehensive single source of property data across the full market\, we unveiled our latest in-depth analysis to support industry leaders to kick-start the year. \nWe discussed the latest volumes across the complete transaction pipeline\, including listings\, SSTC/SSTM\, searches ordered\, and completions. We also provided a ten-thousand-foot view of the current timeline between property transaction milestones\, from instruction to completion. \nFurther highlights: \n\nMarket research: Listen to the latest findings from Landmark’s market research\, highlighting key challenges and priorities for estate agents\, conveyancers\, lenders\, and surveyors.\nData and analytics: Delve into market data and analytics to gain a comprehensive understanding of the residential market landscape for the upcoming year.\nExpert discussions: Hear from industry leaders to discover actionable strategies and tactics for achieving success in the sector.\n\nWhy watch? \nIn a fast-changing market\, staying ahead is essential. This on-demand webinar offers a unique chance to access the most extensive data source and leading knowledge in the sector to inform your approach. \nWatch On Demand Now
URL:https://www.conveyancingassociation.org.uk/event/property-trends-webinar-exploring-key-data-and-themes-for-2025/
CATEGORIES:Event,Online Webinar,Webinar
ATTACH;FMTTYPE=image/jpeg:https://www.conveyancingassociation.org.uk/wp-content/uploads/2025/02/LIG-PTR-ODWebinar-Web-Image.jpg
END:VEVENT
BEGIN:VEVENT
DTSTART;TZID=Europe/London:20251203T110000
DTEND;TZID=Europe/London:20251203T123000
DTSTAMP:20260425T124646
CREATED:20251029T144114Z
LAST-MODIFIED:20251105T110353Z
UID:10262-1764759600-1764765000@www.conveyancingassociation.org.uk
SUMMARY:Online Roundtable
DESCRIPTION:The Ministry of Housing\, Communities and Local Government (MHCLG) has consultations open until 29th December 2025 focused on: \nMaterial Information – improving transparency by ensuring key information about a property is made available to buyers upfront. \nHome Buying and Selling Reform – exploring delivery of solutions to make the home-moving process faster\, more certain\, and less stressful by tackling current delays and fall-throughs. \nThese consultations are seeking industry insight and evidence to shape future policy. As legal professionals at the forefront of property transactions\, conveyancers’ views are essential to ensure that any changes are practical\, effective\, and beneficial to consumers. \nPurpose of the Conveyancing Association’s Engagement\nThe Conveyancing Association aims to capture the opinions of all its legal members on the proposed reforms. Your feedback will directly influence the Association’s official response to government and help ensure that the conveyancing profession’s expertise is clearly represented. \nDeadlines \nEach MHCLG consultation has a defined submission deadline of 29th December 2025\, and the Association will need members’ responses well in advance of these dates to form a consolidated industry position. Members are therefore encouraged to engage as soon as possible to ensure their views are included.  Please click here complete the survey. https://www.surveymonkey.com/r/ZKCJWVQ \nUpcoming Online Roundtable\nDo you need to know more before having your say? To support members in understanding and responding to the proposals\, the Conveyancing Association is hosting a webinar roundtable featuring: \n\nA practising conveyancer\nPropertyMark representing estate agents\nAssociation of Mortgage Intermediaries representing mortgage brokers\n\nThis panel will: \n\nDiscuss the consultation proposals in detail\nProvide practical insight from multiple industry perspectives\nAnswer your questions live\n\nThis is an opportunity to hear balanced viewpoints\, share your own\, and contribute to shaping the future of the home moving process. \nBook now\nIf you wish to attend this event\, please fill out your details below. Details on how to attend will be sent via email prior to the event date. \nOnline Roundtable | 3rd Dec 2025. \n\n\n\n\nRound Table Webinar | 17th Nov 2025\n\n\n\n\n\n\n\n\n	First name\n		*\n	\n	\n	\n	\n\n\n	Last name\n		*\n	\n	\n	\n	\n\n\n	Company\n		*\n	\n	\n	\n	\n\n\n	Contact Email Address\n		*\n	\n	\n	\n	\n\n\n	\nSubmit\n\n\n\n\n\n	\n			\n			\n				If you are human\, leave this field blank.
URL:https://www.conveyancingassociation.org.uk/event/online-roundtable/
CATEGORIES:Online Webinar,Webinar
ATTACH;FMTTYPE=image/jpeg:https://www.conveyancingassociation.org.uk/wp-content/uploads/2025/11/Events.jpg
END:VEVENT
BEGIN:VEVENT
DTSTART;VALUE=DATE:20260129
DTEND;VALUE=DATE:20260130
DTSTAMP:20260425T124646
CREATED:20260113T155112Z
LAST-MODIFIED:20260113T155505Z
UID:10431-1769644800-1769731199@www.conveyancingassociation.org.uk
SUMMARY:Residential property market webinar: Key trends that will shape 2026
DESCRIPTION:Find out what’s shaping the residential property market in 2026 through Landmark’s property market webinar. You can expect comprehensive insights from our panel of industry experts covering transaction milestone timelines\, market volume analytics\, and statistics on the most pressing priorities for estate agents\, conveyancers and lenders. \n  \nRegister
URL:https://www.conveyancingassociation.org.uk/event/residential-property-market-webinar-key-trends-that-will-shape-2026/
CATEGORIES:Event,Webinar
ATTACH;FMTTYPE=image/jpeg:https://www.conveyancingassociation.org.uk/wp-content/uploads/2026/01/Resi-SOTM-Webinar-Web-image.jpg
END:VEVENT
END:VCALENDAR