BEGIN:VCALENDAR
VERSION:2.0
PRODID:-//The Conveyancing Association - ECPv6.15.20//NONSGML v1.0//EN
CALSCALE:GREGORIAN
METHOD:PUBLISH
X-ORIGINAL-URL:https://www.conveyancingassociation.org.uk
X-WR-CALDESC:Events for The Conveyancing Association
REFRESH-INTERVAL;VALUE=DURATION:PT1H
X-Robots-Tag:noindex
X-PUBLISHED-TTL:PT1H
BEGIN:VTIMEZONE
TZID:Europe/London
BEGIN:DAYLIGHT
TZOFFSETFROM:+0000
TZOFFSETTO:+0100
TZNAME:BST
DTSTART:20240331T010000
END:DAYLIGHT
BEGIN:STANDARD
TZOFFSETFROM:+0100
TZOFFSETTO:+0000
TZNAME:GMT
DTSTART:20241027T010000
END:STANDARD
BEGIN:DAYLIGHT
TZOFFSETFROM:+0000
TZOFFSETTO:+0100
TZNAME:BST
DTSTART:20250330T010000
END:DAYLIGHT
BEGIN:STANDARD
TZOFFSETFROM:+0100
TZOFFSETTO:+0000
TZNAME:GMT
DTSTART:20251026T010000
END:STANDARD
BEGIN:DAYLIGHT
TZOFFSETFROM:+0000
TZOFFSETTO:+0100
TZNAME:BST
DTSTART:20260329T010000
END:DAYLIGHT
BEGIN:STANDARD
TZOFFSETFROM:+0100
TZOFFSETTO:+0000
TZNAME:GMT
DTSTART:20261025T010000
END:STANDARD
BEGIN:DAYLIGHT
TZOFFSETFROM:+0000
TZOFFSETTO:+0100
TZNAME:BST
DTSTART:20270328T010000
END:DAYLIGHT
BEGIN:STANDARD
TZOFFSETFROM:+0100
TZOFFSETTO:+0000
TZNAME:GMT
DTSTART:20271031T010000
END:STANDARD
END:VTIMEZONE
BEGIN:VEVENT
DTSTART;TZID=Europe/London:20251203T110000
DTEND;TZID=Europe/London:20251203T123000
DTSTAMP:20260424T144048
CREATED:20251029T144114Z
LAST-MODIFIED:20251105T110353Z
UID:10262-1764759600-1764765000@www.conveyancingassociation.org.uk
SUMMARY:Online Roundtable
DESCRIPTION:The Ministry of Housing\, Communities and Local Government (MHCLG) has consultations open until 29th December 2025 focused on: \nMaterial Information – improving transparency by ensuring key information about a property is made available to buyers upfront. \nHome Buying and Selling Reform – exploring delivery of solutions to make the home-moving process faster\, more certain\, and less stressful by tackling current delays and fall-throughs. \nThese consultations are seeking industry insight and evidence to shape future policy. As legal professionals at the forefront of property transactions\, conveyancers’ views are essential to ensure that any changes are practical\, effective\, and beneficial to consumers. \nPurpose of the Conveyancing Association’s Engagement\nThe Conveyancing Association aims to capture the opinions of all its legal members on the proposed reforms. Your feedback will directly influence the Association’s official response to government and help ensure that the conveyancing profession’s expertise is clearly represented. \nDeadlines \nEach MHCLG consultation has a defined submission deadline of 29th December 2025\, and the Association will need members’ responses well in advance of these dates to form a consolidated industry position. Members are therefore encouraged to engage as soon as possible to ensure their views are included.  Please click here complete the survey. https://www.surveymonkey.com/r/ZKCJWVQ \nUpcoming Online Roundtable\nDo you need to know more before having your say? To support members in understanding and responding to the proposals\, the Conveyancing Association is hosting a webinar roundtable featuring: \n\nA practising conveyancer\nPropertyMark representing estate agents\nAssociation of Mortgage Intermediaries representing mortgage brokers\n\nThis panel will: \n\nDiscuss the consultation proposals in detail\nProvide practical insight from multiple industry perspectives\nAnswer your questions live\n\nThis is an opportunity to hear balanced viewpoints\, share your own\, and contribute to shaping the future of the home moving process. \nBook now\nIf you wish to attend this event\, please fill out your details below. Details on how to attend will be sent via email prior to the event date. \nOnline Roundtable | 3rd Dec 2025. \n\n\n\n\nRound Table Webinar | 17th Nov 2025\n\n\n\n\n\n\n\n\n	First name\n		*\n	\n	\n	\n	\n\n\n	Last name\n		*\n	\n	\n	\n	\n\n\n	Company\n		*\n	\n	\n	\n	\n\n\n	Contact Email Address\n		*\n	\n	\n	\n	\n\n\n	\nSubmit\n\n\n\n\n\n	\n			\n			\n				If you are human\, leave this field blank.
URL:https://www.conveyancingassociation.org.uk/event/online-roundtable/
CATEGORIES:Online Webinar,Webinar
ATTACH;FMTTYPE=image/jpeg:https://www.conveyancingassociation.org.uk/wp-content/uploads/2025/11/Events.jpg
END:VEVENT
BEGIN:VEVENT
DTSTART;VALUE=DATE:20260129
DTEND;VALUE=DATE:20260130
DTSTAMP:20260424T144048
CREATED:20260113T155112Z
LAST-MODIFIED:20260113T155505Z
UID:10431-1769644800-1769731199@www.conveyancingassociation.org.uk
SUMMARY:Residential property market webinar: Key trends that will shape 2026
DESCRIPTION:Find out what’s shaping the residential property market in 2026 through Landmark’s property market webinar. You can expect comprehensive insights from our panel of industry experts covering transaction milestone timelines\, market volume analytics\, and statistics on the most pressing priorities for estate agents\, conveyancers and lenders. \n  \nRegister
URL:https://www.conveyancingassociation.org.uk/event/residential-property-market-webinar-key-trends-that-will-shape-2026/
CATEGORIES:Event,Webinar
ATTACH;FMTTYPE=image/jpeg:https://www.conveyancingassociation.org.uk/wp-content/uploads/2026/01/Resi-SOTM-Webinar-Web-image.jpg
END:VEVENT
END:VCALENDAR