BEGIN:VCALENDAR
VERSION:2.0
PRODID:-//The Conveyancing Association - ECPv6.15.20//NONSGML v1.0//EN
CALSCALE:GREGORIAN
METHOD:PUBLISH
X-WR-CALNAME:The Conveyancing Association
X-ORIGINAL-URL:https://www.conveyancingassociation.org.uk
X-WR-CALDESC:Events for The Conveyancing Association
REFRESH-INTERVAL;VALUE=DURATION:PT1H
X-Robots-Tag:noindex
X-PUBLISHED-TTL:PT1H
BEGIN:VTIMEZONE
TZID:Europe/London
BEGIN:DAYLIGHT
TZOFFSETFROM:+0000
TZOFFSETTO:+0100
TZNAME:BST
DTSTART:20210328T010000
END:DAYLIGHT
BEGIN:STANDARD
TZOFFSETFROM:+0100
TZOFFSETTO:+0000
TZNAME:GMT
DTSTART:20211031T010000
END:STANDARD
BEGIN:DAYLIGHT
TZOFFSETFROM:+0000
TZOFFSETTO:+0100
TZNAME:BST
DTSTART:20220327T010000
END:DAYLIGHT
BEGIN:STANDARD
TZOFFSETFROM:+0100
TZOFFSETTO:+0000
TZNAME:GMT
DTSTART:20221030T010000
END:STANDARD
BEGIN:DAYLIGHT
TZOFFSETFROM:+0000
TZOFFSETTO:+0100
TZNAME:BST
DTSTART:20230326T010000
END:DAYLIGHT
BEGIN:STANDARD
TZOFFSETFROM:+0100
TZOFFSETTO:+0000
TZNAME:GMT
DTSTART:20231029T010000
END:STANDARD
END:VTIMEZONE
BEGIN:VEVENT
DTSTART;TZID=Europe/London:20221107T110000
DTEND;TZID=Europe/London:20221107T123000
DTSTAMP:20260423T141737
CREATED:20221021T072243Z
LAST-MODIFIED:20221021T072320Z
UID:7246-1667818800-1667824200@www.conveyancingassociation.org.uk
SUMMARY:How is supplier collaboration driving efficiency within the sector?
DESCRIPTION:Successful integrations should ensure that firms can collaborate and increase efficiency with minimal risk. \nJoin us to discover more about the LMS mortgage offer and charge registration integration. In this 45-minute webinar\, Travis Scholes\, Commercial Director at LMS\, will explore: \n– How law firms and lenders can benefit from registration integration to drive efficiency in the industry\n– The importance of collaboration and the benefits\n– How law firms can play their part in encouraging collaboration \nJoining Travis will be Annabella Barker\, Product Manager at InfoTrack\, who will demonstrate the key features of the integration between InfoTrack and LMS and how to access it. \nBook your place today! \nhttps://us02web.zoom.us/webinar/register/7516657530823/WN_6UNUYdC0Qn2Iv03EDAA3gQ
URL:https://www.conveyancingassociation.org.uk/event/how-is-supplier-collaboration-driving-efficiency-within-the-sector/
ATTACH;FMTTYPE=image/png:https://www.conveyancingassociation.org.uk/wp-content/uploads/2022/10/bfe2ba3d-c7f0-46e7-b88f-4a55fb65965c.png
END:VEVENT
BEGIN:VEVENT
DTSTART;TZID=Europe/London:20221130T110000
DTEND;TZID=Europe/London:20221130T123000
DTSTAMP:20260423T141737
CREATED:20221021T071830Z
LAST-MODIFIED:20221021T071830Z
UID:7242-1669806000-1669811400@www.conveyancingassociation.org.uk
SUMMARY:Review of the Year for Residential Conveyancers
DESCRIPTION:Changes to CQS guidance came into effect in May 2022. With the year coming to a close\, conveyancers must remain vigilant of the changes to meet key requirements of the 2022 Core Practice Management Standard (CPMS) this year and beyond. \nIan Quayle\, Chief Executive of IQ Legal Training\, will join InfoTrack to review the key issues residential conveyancers need to be aware of\, exploring the cases decided in 2022 and changes in practice and procedure. \nThe webinar will examine:\n• The significance of the changes to CQS guidance in May 2022\n• Limiting the scope of the retainer – lessons learned from case law\n• Effective communication with clients – explaining the bigger picture in leasehold transactions and explaining key features of the conveyancing process to all clients\n• Residential Leasehold Conveyancing – the implications of changes to the law on ground rents\, service charges and decisions of the First Tier Tribunal that impact residential conveyancers\n• Changes to Land Registry Practice\n• The recent developments in negligence claims and client complaints in residential transactions. \nEnsure you understand the changes by booking your place today. \nhttps://us02web.zoom.us/webinar/register/9016659979674/WN_REBRfpmdQKqK0dLTidh_eA
URL:https://www.conveyancingassociation.org.uk/event/review-of-the-year-for-residential-conveyancers/
ATTACH;FMTTYPE=image/png:https://www.conveyancingassociation.org.uk/wp-content/uploads/2022/10/0875486a-e0d0-4df7-a21d-fa8668e24230.png
END:VEVENT
END:VCALENDAR