BEGIN:VCALENDAR
VERSION:2.0
PRODID:-//The Conveyancing Association - ECPv6.15.20//NONSGML v1.0//EN
CALSCALE:GREGORIAN
METHOD:PUBLISH
X-ORIGINAL-URL:https://www.conveyancingassociation.org.uk
X-WR-CALDESC:Events for The Conveyancing Association
REFRESH-INTERVAL;VALUE=DURATION:PT1H
X-Robots-Tag:noindex
X-PUBLISHED-TTL:PT1H
BEGIN:VTIMEZONE
TZID:Europe/London
BEGIN:DAYLIGHT
TZOFFSETFROM:+0000
TZOFFSETTO:+0100
TZNAME:BST
DTSTART:20210328T010000
END:DAYLIGHT
BEGIN:STANDARD
TZOFFSETFROM:+0100
TZOFFSETTO:+0000
TZNAME:GMT
DTSTART:20211031T010000
END:STANDARD
BEGIN:DAYLIGHT
TZOFFSETFROM:+0000
TZOFFSETTO:+0100
TZNAME:BST
DTSTART:20220327T010000
END:DAYLIGHT
BEGIN:STANDARD
TZOFFSETFROM:+0100
TZOFFSETTO:+0000
TZNAME:GMT
DTSTART:20221030T010000
END:STANDARD
BEGIN:DAYLIGHT
TZOFFSETFROM:+0000
TZOFFSETTO:+0100
TZNAME:BST
DTSTART:20230326T010000
END:DAYLIGHT
BEGIN:STANDARD
TZOFFSETFROM:+0100
TZOFFSETTO:+0000
TZNAME:GMT
DTSTART:20231029T010000
END:STANDARD
END:VTIMEZONE
BEGIN:VEVENT
DTSTART;TZID=Europe/London:20220926T090000
DTEND;TZID=Europe/London:20220926T110000
DTSTAMP:20260423T201721
CREATED:20220830T051453Z
LAST-MODIFIED:20220830T051453Z
UID:7041-1664182800-1664190000@www.conveyancingassociation.org.uk
SUMMARY:Demonstrating compliance with the CQS Core Practice Management Standard 2022
DESCRIPTION:The Law Society recently announced the launch of the new CQS Core Practice Management Standard which became compulsory for CQS accredited practices to follow from 1st May 2022. \nIn addition\, the highly anticipated date for the formal commencement of onsite CQS Assessments was also announced as being in effect from 1st May 2022 with firms being advised to be ‘assessment ready’ from this date. \nThis live session presented by CQS Lead Assessor Tracy Thompson will look in detail at the key requirements of the 2022 Core Practice Management Standard (CPMS) and what firms will need to have in place to demonstrate compliance with the 40 individual requirements. \nThis 3 hour in-depth webinar is aimed at Conveyancing Partners\, SRO’s\, Heads of Conveyancing\, Practice Managers\, Compliance Managers and will also be useful to Conveyancing fee earners who wish to learn more about the Core Practice Management Standard. This course is limited to 150 attendees. \nBook your place today! \nhttps://us02web.zoom.us/webinar/register/6316601250282/WN_TAUkmvDyQiiFiz5vwlBMbA \n 
URL:https://www.conveyancingassociation.org.uk/event/demonstrating-compliance-with-the-cqs-core-practice-management-standard-2022/
ATTACH;FMTTYPE=image/png:https://www.conveyancingassociation.org.uk/wp-content/uploads/2022/08/84b2a94e-ca12-4487-a519-fd24b670662e.png
END:VEVENT
END:VCALENDAR